BEGIN:VCALENDAR
VERSION:2.0
PRODID:-//Library Market//iCal Export//EN
BEGIN:VEVENT
SUMMARY:Live Music: Ragtime and Early Blues with Cherry and Jerry
UID:22731
DTSTAMP:20260423T221400Z
DTSTART:20260520T230000Z
DTEND:20260521T000000Z
LOCATION:Sun Prairie Public Library, 1350 Linnerud Dr, Sun Prairie, WI 535
 90, United States
ROOM: Kind Stage and Amphitheater
DESCRIPTION:Join us in the Kind Stage and Amphitheater for a night of ragt
 ime, blues, and jazz!The popular duo Cherry and Jerry will bring you well 
 known songs such as &quot;The Entertainer&quot;, &quot;Alexander’s Ragti
 me Band&quot;, and &quot;St. Louis Blues&quot; as well as some rarely hear
 d but wonderful tunes. Fun for the whole family, they focus on ragtime, bl
 ues, jazz and popular music from around 1900-1925. The event is generousl
 y funded by the Friends of the Sun Prairie Public Library.About &quot;Cher
 ry &amp; Jerry&quot;The St. Louis duo, Isaac Cherry on percussion and Jerr
 y Rabushka on piano, has toured music of the ragtime era throughout the r
 egion, appearing at libraries, museums, pubs and restaurants, special even
 ts, and more. Appearances include the Illinois State Fair, the George Wash
 ington Carver National Monument, the Cole Porter Festival in Peru, Indiana
 ; and the Nathanial Dean House in Madison, Wisconsin.
URL:https://sunprairie.librarymarket.com/event/cherry-and-jerry-22731
END:VEVENT
END:VCALENDAR
