BEGIN:VCALENDAR
VERSION:2.0
PRODID:-//Library Market//iCal Export//EN
BEGIN:VEVENT
SUMMARY:UNJUST DEEDS: A History of Racial Covenants in Dane County and Bey
 ond
UID:23460
DTSTAMP:20260424T030700Z
DTSTART:20260604T233000Z
DTEND:20260605T010000Z
LOCATION:Sun Prairie Public Library, 1350 Linnerud Dr, Sun Prairie, WI 535
 90, United States
ROOM: Community Room
DESCRIPTION:The UNJUST DEEDS exhibit consists of 14 pull-up panels that tr
 ace the history of racial covenants, both nationally and locally. Racial c
 ovenants were an insidious tool for racially restricting home sales and se
 gregating residential neighborhoods. Essentially, a single cleverly-worded
  sentence inserted into a land deed of a subdivision plat could invoke the
  full force of the government’s police powers in enforcing racial segreg
 ation. Presented by Executive Director of the Dane County Historical Socie
 ty Rick Bernstein, this program will explore the history of racial covenan
 ts in Dane County and nationwide. 
URL:https://sunprairie.librarymarket.com/event/possible-adult-program-2346
 0
END:VEVENT
END:VCALENDAR
