BEGIN:VCALENDAR
VERSION:2.0
PRODID:-//Library Market//iCal Export//EN
BEGIN:VEVENT
SUMMARY:Virtual Author Talk with Jason Reynolds
UID:23616
DTSTAMP:20260420T083200Z
DTSTART:20260430T230000Z
DTEND:20260430T234500Z
LOCATION:
DESCRIPTION:On Writing Beloved Characters and Powerful Portrayals of Resil
 ience with Jason ReynoldsJoin us in conversation with bestselling author J
 ason Reynolds as we discuss his latest work,Â Coach, the fifthâ€“and lastâ
 €“entry in the highly popularÂ Track series. Following the immersive stori
 es of Ghost, Lu, Patina, and Sunny, itâ€™s finally time for Coach to shine
  in his own book as we discover: Who was Coach before he became an inspiri
 ng leader?This is a virtual event. Click on the link below to register, su
 bmit your questions for the author, and receive your unique link to join t
 he discussion: https://libraryc.org/sunprairie/164740Thank you to the Frie
 nds of the Sun Prairie Public Library for sponsoring this event!About the 
 Author:Jason Reynolds is an award-winning and #1 New York Times bestsellin
 g author. Jasonâ€™s many books includeÂ Miles Morales: Spider Man, theÂ Tr
 ack series (Ghost, Patina, Sunny, and Lu), Long Way Down, which received a
  Newbery Honor, a Printz Honor, and a Correta Scott King Honor, andÂ Look 
 Both Ways, which was a National Book Award Finalist. Recently named the Na
 tional Ambassador for Young Peopleâ€™s Literature, Jason has appeared onÂ 
 The Daily Show with Trevor Noah,Â Late Night with Seth Meyers, andÂ CBS Th
 is Morning. He is on faculty at Lesley University, for the Writing for You
 ng People MFA Program and lives in Washington, DC. You can find his rambli
 ngs at JasonWritesBooks.com.
URL:https://sunprairie.librarymarket.com/jasonreynolds
END:VEVENT
END:VCALENDAR
