BEGIN:VCALENDAR
VERSION:2.0
PRODID:-//Library Market//iCal Export//EN
BEGIN:VEVENT
SUMMARY:Virtual Author Talk with Marjan Kamali
UID:23625
DTSTAMP:20260419T132700Z
DTSTART:20260507T230000Z
DTEND:20260508T000000Z
LOCATION:Sun Prairie Public Library, 1350 Linnerud Dr, Sun Prairie, WI 535
 90, United States
ROOM: Conference Room
DESCRIPTION:On Courage, Turmoil, and the Transformative Power of Love with
  Marjan KamaliJoin us for an exciting conversation with internationally ac
 claimed author Marjan Kamali as we delve into the timeless wonder of her 
 New York Times bestselling novel, The Lion Women of Tehran, a story of tw
 o young women coming of age and pursuing their own goals for meaningful fu
 tures in 1950s Tehran as political turmoil in Iran builds to a breaking po
 int.There are two ways to participate in this virtual event:Join us in per
 son in the library&#039;s Conference Room for a watch partyParticipate vir
 tually via the following link: https://libraryc.org/sunprairie/164746If yo
 u&#039;d like to ask the author a question ahead of the event, please regi
 ster using the above link.Thank you to the Friends of the Sun Prairie Publ
 ic Library for sponsoring this event!About the Author:Marjan Kamali, born 
 in Turkey to Iranian parents, is the New York Times bestselling author of 
 The Lion Women of Tehran, The Stationery Shop, and Together Tea. She is th
 e 2022 recipient of the National Endowment for the Arts Creative Writing A
 ward. Her books have been translated into over thirty languages. Marjan li
 ves with her family in the Boston area.
URL:https://sunprairie.librarymarket.com/event/virtual-author-talk-marjan-
 kamali
END:VEVENT
END:VCALENDAR
