BEGIN:VCALENDAR
VERSION:2.0
PRODID:-//Library Market//iCal Export//EN
BEGIN:VEVENT
SUMMARY:Virtual Author Talk with Nir Eyal
UID:23626
DTSTAMP:20260423T221400Z
DTSTART:20260519T180000Z
DTEND:20260519T190000Z
LOCATION:Sun Prairie Public Library, 1350 Linnerud Dr, Sun Prairie, WI 535
 90, United States
ROOM: Conference Room
DESCRIPTION:Reshape Your Beliefs and Unlock Your True Potential with Nir E
 yalIn Beyond Belief, Nir Eyal reveals how the hidden assumptions you carr
 y shape what you see, how you feel, and what you do—and how to replace t
 hem with beliefs that unlock your true potential. Grounded in neuroscience
 , psychology, and unforgettable case studies, Eyal introduces the Three Po
 wers of Belief: Attention, Anticipation, and Agency. Beyond Belief reveal
 s the science behind incredible breakthroughs and shows why your limits ar
 en’t fixed—they’re learned.There are two ways to participate in this
  virtual event:Join us in person in the library&#039;s Conference Room for
  a watch partyParticipate virtually via the following link: https://librar
 yc.org/sunprairie/164749If you&#039;d like to ask the author a question ah
 ead of the event, please register using the above link.Thank you to the Fr
 iends of the Sun Prairie Public Library for sponsoring this event!About th
 e Author:Nir Eyal writes, consults, and teaches about the intersection of 
 psychology, technology, and human potential. He previously taught at the S
 tanford Graduate School of Business and the Hasso Plattner Institute of De
 sign at Stanford. He is the author of the international bestsellers Hooked
 : How to Build Habit-Forming Products and Indistractable: How to Control Y
 our Attention and Choose Your Life, which have sold over 1 million copies 
 in more than 30 languages. As an active angel investor, Nir has backed mul
 ti-billion-dollar companies that implement his methodologies, including Ca
 nva, Kahoot!, and others. In addition to blogging at NirAndFar.com, his wr
 iting has been featured in The New York Times and Harvard Business Review,
  and he is a regular contributor to Psychology Today.
URL:https://sunprairie.librarymarket.com/event/virtual-author-talk-nir-eya
 l-23626
END:VEVENT
END:VCALENDAR
