BEGIN:VCALENDAR
VERSION:2.0
PRODID:-//Library Market//iCal Export//EN
BEGIN:VEVENT
SUMMARY:Virtual Author Talk with Matt Dinniman
UID:23628
DTSTAMP:20260425T185600Z
DTSTART:20260611T230000Z
DTEND:20260612T000000Z
LOCATION:
DESCRIPTION:Apocalyptic Mayhem, Lava-Spitting Llamas, and One Very Sassy C
 at: Surviving the Universe’s Most Twisted RPG with Matt DinnimanHold ont
 o your heart-patterned boxers! Matt Dinniman, New York Times bestselling 
 author of the wildly popular (and just plain wild) Dungeon Crawler Carl s
 eries, joins us to chat about his latest book, A Parade of Horribles. Reg
 ister now for a fun-filled discussion you won’t want to miss!This is a v
 irtual event. Click on the link below to register, submit your questions f
 or the author, and receive your unique link to join the discussion: https:
 //libraryc.org/sunprairie/164755Thank you to the Friends of the Sun Prairi
 e Public Library for sponsoring this event!About the Author:Matt Dinniman 
 is a writer and artist from Gig Harbor, Washington. He is the author of th
 e New York Times bestselling Dungeon Crawler Carl series along with severa
 l other books about the end of the world. He doesn’t really hate Cocker
  Spaniels, and he plays bass in one band.
URL:https://sunprairie.librarymarket.com/event/virtual-author-talk-matt-di
 nniman-23628
END:VEVENT
END:VCALENDAR
